BEGIN:VCALENDAR
VERSION:2.0
PRODID:-//Squarespace Inc/Squarespace 6//v6//EN
BEGIN:VEVENT
UID:5f89f9b96dd4bd52696ad975@squarespace.com
DTSTAMP:20201016T195511Z
DTSTART:20201013T200000Z
DTEND:20201013T210000Z
SUMMARY:Modern Management Models (Presented by Music Managers Forum - US) -
END:VEVENT
END:VCALENDAR
