BEGIN:VCALENDAR
VERSION:2.0
PRODID:-//Squarespace Inc/Squarespace 6//v6//EN
BEGIN:VEVENT
UID:5fcf16090496d067bdcb62b1@squarespace.com
DTSTAMP:20201208T061245Z
DTSTART:20201216T210000Z
DTEND:20201216T220000Z
SUMMARY:An MMF-US Mentorship Initiative Webinar: In partnership with Bonsai
END:VEVENT
END:VCALENDAR
