BEGIN:VCALENDAR
VERSION:2.0
PRODID:-//Squarespace Inc/Squarespace 6//v6//EN
BEGIN:VEVENT
UID:5e41e5cd045eb448d8a83fe5@squarespace.com
DTSTAMP:20200211T185248Z
DTSTART:20200130T233000Z
DTEND:20200131T003000Z
SUMMARY:Jan 30\, 2020 - Chicago with Women in Music
END:VEVENT
END:VCALENDAR
