BEGIN:VCALENDAR
VERSION:2.0
PRODID:-//Squarespace Inc/Squarespace 6//v6//EN
BEGIN:VEVENT
UID:5e41e97d4010e904541f945f@squarespace.com
DTSTAMP:20200330T223635Z
DTSTART:20200817T230000Z
DTEND:20200818T000000Z
SUMMARY: Music Biz 2020 Panel on Management Models and Deal Structures. Nas
 hville\, TN
END:VEVENT
END:VCALENDAR
