BEGIN:VCALENDAR
VERSION:2.0
PRODID:-//Squarespace Inc/Squarespace 6//v6//EN
BEGIN:VEVENT
UID:5e8276131c251f2ff0ffb3fa@squarespace.com
DTSTAMP:20200511T180129Z
DTSTART:20200330T230000Z
DTEND:20200331T000000Z
SUMMARY:MUSIC MANAGERS FORUM-US (MMF-US) ANNOUNCES NEW LEADERSHIP  BARRY BE
 RGMAN CONGRATULATED ON HIS TENURE AS HE PASSES TORCH TO NEETA RAGOOWANSI W
 HO UNVEILS HER VISION FOR MMF-US’S FUTURE
END:VEVENT
END:VCALENDAR
