BEGIN:VCALENDAR
VERSION:2.0
PRODID:-//Squarespace Inc/Squarespace 6//v6//EN
BEGIN:VEVENT
UID:5ebdd4c85278ca3682bd9b67@squarespace.com
DTSTAMP:20200514T233326Z
DTSTART:20200521T200000Z
DTEND:20200521T210000Z
SUMMARY:Maximizing Monetization Build Something Special: Vinyl\, Merch Drop
 s\, and Crowdfunding in Today's Market
END:VEVENT
END:VCALENDAR
