BEGIN:VCALENDAR
VERSION:2.0
PRODID:-//Squarespace Inc/Squarespace 6//v6//EN
BEGIN:VEVENT
UID:5ef92b82a7500b6695378dd4@squarespace.com
DTSTAMP:20200630T135929Z
DTSTART:20200701T200000Z
DTEND:20200701T210000Z
SUMMARY:What Managers Can Do To Fight Racism
END:VEVENT
END:VCALENDAR
