BEGIN:VCALENDAR
VERSION:2.0
PRODID:-//Squarespace Inc/Squarespace 6//v6//EN
BEGIN:VEVENT
UID:5f306d849056f72a0c12dcf1@squarespace.com
DTSTAMP:20200809T214452Z
DTSTART:20200811T200000Z
DTEND:20200811T220000Z
SUMMARY:Expert Encounter #1: Jeff Kilgour and Marni Wandner of The Syndicat
 e on PR\, Marketing\, and How to Live Stream Successfully
END:VEVENT
END:VCALENDAR
