BEGIN:VCALENDAR
VERSION:2.0
PRODID:-//Squarespace Inc/Squarespace 6//v6//EN
BEGIN:VEVENT
UID:5f636321191e4255846f64dd@squarespace.com
DTSTAMP:20200917T133043Z
DTSTART:20200916T200000Z
DTEND:20200916T210000Z
SUMMARY:MMF-US Webinar - Expert Encounter #3: License to Sync
END:VEVENT
END:VCALENDAR
