BEGIN:VCALENDAR
VERSION:2.0
PRODID:-//Squarespace Inc/Squarespace 6//v6//EN
BEGIN:VEVENT
UID:5f47217f032843199a8acd52@squarespace.com
DTSTAMP:20200827T030038Z
DTSTART:20200901T200000Z
DTEND:20200901T210000Z
SUMMARY:MMF-US Webinar - Expert Encounter #2: Neighboring Rights Unpacked
END:VEVENT
END:VCALENDAR
