BEGIN:VCALENDAR
VERSION:2.0
PRODID:-//Squarespace Inc/Squarespace 6//v6//EN
BEGIN:VEVENT
UID:601d7c06e65d787cd60fea18@squarespace.com
DTSTAMP:20210205T171858Z
DTSTART:20210211T190000Z
DTEND:20210211T203000Z
SUMMARY:Digital Distribution Deep Dive
END:VEVENT
END:VCALENDAR
