BEGIN:VCALENDAR
VERSION:2.0
PRODID:-//Squarespace Inc/Squarespace 6//v6//EN
BEGIN:VEVENT
UID:60624387923dcc754557b409@squarespace.com
DTSTAMP:20210329T212551Z
DTSTART:20210330T200000Z
DTEND:20210330T210000Z
SUMMARY:MMF-US Music Monitoring Deep Dive 💻
END:VEVENT
END:VCALENDAR
